BEGIN:VCALENDAR
VERSION:2.0
PRODID:-//hacksw/handcal//NONSGML v1.0//EN
CALSCALE:GREGORIAN
BEGIN:VEVENT
LOCATION:Hitchcock Nature Center\, 27792 Ski Hill Loop\, Honey Creek\, Iowa 51542
DESCRIPTION:Invite nature into your own backyard\, grow beautiful pollinator and bird habitat and support native plants and ecosystems by joining us for our Gardening for Diversity series!
DTSTART:20220511T170000
DTEND:20220511T190000
SUMMARY:Gardening for Diversity: Garden Prep &amp\; Groundwork
URL;VALUE=URI:https://www.pottconservation.com/calendar/gardening_for_diversity_garden_prep_groundwork/2022-05-11/
DTSTAMP:20260423T081959
UID:69ea1c7fefa8b
END:VEVENT
END:VCALENDAR