BEGIN:VCALENDAR
VERSION:2.0
PRODID:-//hacksw/handcal//NONSGML v1.0//EN
CALSCALE:GREGORIAN
BEGIN:VEVENT
LOCATION: Council Bluffs Public Library\, 400 Willow Ave\, Council Bluffs\, IA 
DESCRIPTION:Invite nature into your own backyard\, grow beautiful pollinator and bird habitat and support native plants and ecosystems by joining us for our Gardening for Diversity series!
DTSTART:20230517T183000
DTEND:20230517T203000
SUMMARY:Gardening for Diversity: Garden Prep &amp\; Groundwork
URL;VALUE=URI:https://www.pottconservation.com/calendar/gardening_for_diversity_garden_prep_groundwork/2023-05-17/
DTSTAMP:20260424T020430
UID:69eb15fe513c4
END:VEVENT
END:VCALENDAR