BEGIN:VCALENDAR
VERSION:2.0
PRODID:-//hacksw/handcal//NONSGML v1.0//EN
CALSCALE:GREGORIAN
BEGIN:VEVENT
LOCATION:Council Bluffs Public Library - Meeting Room B\, 400 Willow Ave\, Council Bluffs\, IA 51503
DESCRIPTION:Join us for this free two-hour program and learn how you can support pollinators and why it&#039\;s important.
DTSTART:20220112T183000
DTEND:20220112T203000
SUMMARY:Gardening for Diversity: Intro to Pollinators (Free)
URL;VALUE=URI:https://www.pottconservation.com/calendar/gardening_for_diversity_intro_to_pollinators_free/2022-01-12/
DTSTAMP:20260421T120912
UID:69e7af3859028
END:VEVENT
END:VCALENDAR