BEGIN:VCALENDAR
VERSION:2.0
PRODID:-//hacksw/handcal//NONSGML v1.0//EN
CALSCALE:GREGORIAN
BEGIN:VEVENT
LOCATION:Hitchcock Nature Center\, 27792 Ski Hill Loop\, Honey Creek\, Iowa 51542
DESCRIPTION:Welcome to&nbsp\;Gentle Yoga with Katie Stratman. This event is for anyone who is interested in yoga\, whether you are a beginner or experienced.
DTSTART:20251028T180000
DTEND:20251028T190000
SUMMARY:Gentle Yoga with Katie Stratman | Final Session 
URL;VALUE=URI:https://www.pottconservation.com/calendar/gentle_yoga_with_katie_stratman/2025-10-28/
DTSTAMP:20260425T180218
UID:69ed47fac04ca
END:VEVENT
END:VCALENDAR