BEGIN:VCALENDAR
VERSION:2.0
PRODID:-//hacksw/handcal//NONSGML v1.0//EN
CALSCALE:GREGORIAN
BEGIN:VEVENT
LOCATION:Hitchcock Nature Center\, 27792 Ski Hill Loop\, Honey Creek\, Iowa 51542
DESCRIPTION:Learn to ID grasses in the family Poaceae during this three-day workshop with Drake University professor Tom Rosburg.
DTSTART:20220816T093000
DTEND:20220816T170000
SUMMARY:Grass Identification Workshop
URL;VALUE=URI:https://www.pottconservation.com/calendar/grass_identification_workshop/2022-08-16/
DTSTAMP:20260425T095223
UID:69ecd527701f0
END:VEVENT
END:VCALENDAR