BEGIN:VCALENDAR
VERSION:2.0
PRODID:-//hacksw/handcal//NONSGML v1.0//EN
CALSCALE:GREGORIAN
BEGIN:VEVENT
LOCATION:Hitchcock Nature Center\, 27792 Ski Hill Loop\, Honey Creek\, Iowa 51542
DESCRIPTION: Join Dustin Clayton at Hitchcock Nature Center and witness how life is ripening as the growing season approaches its apogee.
DTSTART:20220806T100000
DTEND:20220806T123000
SUMMARY:High Summer Prairie Medicine | With Dustin Clayton
URL;VALUE=URI:https://www.pottconservation.com/calendar/high_summer_prairie_medicine_with_dustin_clayton/2022-08-06/
DTSTAMP:20260425T095824
UID:69ecd69092afa
END:VEVENT
END:VCALENDAR