BEGIN:VCALENDAR
VERSION:2.0
PRODID:-//hacksw/handcal//NONSGML v1.0//EN
CALSCALE:GREGORIAN
BEGIN:VEVENT
LOCATION:Hitchcock Nature Center\, 27792 Ski Hill Loop\, Honey Creek\, Iowa 51542
DESCRIPTION:Explore the Loess Hills on this fun for all ages scavenger hunt.
DTSTART:20211023T110000
DTEND:20211023T160000
SUMMARY:Hitchcock Haunted Hollow - Saturday
URL;VALUE=URI:https://www.pottconservation.com/calendar/hitchcock_haunted_hollow_saturday/2021-10-23/
DTSTAMP:20260421T072309
UID:69e76c2d0fb44
END:VEVENT
END:VCALENDAR