BEGIN:VCALENDAR
VERSION:2.0
PRODID:-//hacksw/handcal//NONSGML v1.0//EN
CALSCALE:GREGORIAN
BEGIN:VEVENT
LOCATION:Hitchcock Nature Center\, 27792 Ski Hill Loop\, Honey Creek\, Iowa 51542
DESCRIPTION:Explore the Loess Hills on this fun for all ages scavenger hunt.
DTSTART:20221022T110000
DTEND:20221022T140000
SUMMARY:Hitchcock Haunted Hollow | Saturday
URL;VALUE=URI:https://www.pottconservation.com/calendar/hitchcock_haunted_hollow_saturday/2022-10-22/
DTSTAMP:20260425T054242
UID:69ec9aa27d9e3
END:VEVENT
END:VCALENDAR