BEGIN:VCALENDAR
VERSION:2.0
PRODID:-//hacksw/handcal//NONSGML v1.0//EN
CALSCALE:GREGORIAN
BEGIN:VEVENT
LOCATION:Hitchcock Nature Center\, 27792 Ski Hill Loop\, Honey Creek\, Iowa 51542
DESCRIPTION:Explore the Loess Hills on this fun for all ages scavenger hunt.
DTSTART:20211024T130000
DTEND:20211024T160000
SUMMARY:Hitchcock Haunted Hollow - Sunday
URL;VALUE=URI:https://www.pottconservation.com/calendar/hitchcock_haunted_hollow_sunday/2021-10-24/
DTSTAMP:20260421T070541
UID:69e76815bc5e8
END:VEVENT
END:VCALENDAR