BEGIN:VCALENDAR
VERSION:2.0
PRODID:-//hacksw/handcal//NONSGML v1.0//EN
CALSCALE:GREGORIAN
BEGIN:VEVENT
LOCATION:Hitchcock Nature Center\, 27792 Ski Hill Loop\, Honey Creek\, Iowa 51542
DESCRIPTION:Explore the Loess Hills on this fun for all ages scavenger hunt.
DTSTART:20221023T130000
DTEND:20221023T160000
SUMMARY:Hitchcock Haunted Hollow | Sunday
URL;VALUE=URI:https://www.pottconservation.com/calendar/hitchcock_haunted_hollow_sunday/2022-10-23/
DTSTAMP:20260425T053751
UID:69ec997f4412b
END:VEVENT
END:VCALENDAR