BEGIN:VCALENDAR
VERSION:2.0
PRODID:-//hacksw/handcal//NONSGML v1.0//EN
CALSCALE:GREGORIAN
BEGIN:VEVENT
LOCATION:Hitchcock Nature Center\, 27792 Ski Hill Loop\, Honey Creek\, Iowa 51542
DESCRIPTION:If you are looking to get in tune with your body\, work up a sweat\, and engage with the outdoors\, then this is the club for you (especially if you have a big hike or camping trip coming up!).
DTSTART:20241001T090000
DTEND:20241001T120000
SUMMARY:Hitchcock Hike for Health Club
URL;VALUE=URI:https://www.pottconservation.com/calendar/hitchcock_hike_for_health_club/2024-10-01/
DTSTAMP:20260420T010053
UID:69e5c11511e33
END:VEVENT
END:VCALENDAR