BEGIN:VCALENDAR
VERSION:2.0
PRODID:-//hacksw/handcal//NONSGML v1.0//EN
CALSCALE:GREGORIAN
BEGIN:VEVENT
LOCATION:Hitchcock Nature Center\, 27792 Ski Hill Loop\, Honey Creek\, Iowa 51542
DESCRIPTION:If you are looking to get in tune with your body\, work up a sweat\, and engage with the outdoors\, then this is the club for you (especially if you have a big hike or camping trip coming up!).
DTSTART:20251023T090000
DTEND:20251023T110000
SUMMARY:Hitchcock Hike for Health Club
URL;VALUE=URI:https://www.pottconservation.com/calendar/hitchcock_hike_for_health_club/2025-10-23/
DTSTAMP:20260425T180947
UID:69ed49bb18169
END:VEVENT
END:VCALENDAR