BEGIN:VCALENDAR
VERSION:2.0
PRODID:-//hacksw/handcal//NONSGML v1.0//EN
CALSCALE:GREGORIAN
BEGIN:VEVENT
LOCATION:Hitchcock Nature Center\, 27792 Ski Hill Loop\, Honey Creek\, Iowa 51542
DESCRIPTION:Come join in the fun! Everyone is welcome.
DTSTART:20260723T183000
DTEND:20260723T200000
SUMMARY:Hitchcock Insect Club
URL;VALUE=URI:https://www.pottconservation.com/calendar/hitchcock_insect_club/2026-07-23/
DTSTAMP:20260419T201142
UID:69e57d4e5f4c1
END:VEVENT
END:VCALENDAR