BEGIN:VCALENDAR
VERSION:2.0
PRODID:-//hacksw/handcal//NONSGML v1.0//EN
CALSCALE:GREGORIAN
BEGIN:VEVENT
LOCATION:Hitchcock Nature Center\, 27792 Ski Hill Loop\, Honey Creek\, Iowa 51542
DESCRIPTION:Hitchcock Insect Club is a grassroots club made up of local individuals who are passionate about bugs\, and they want YOU to join in the fun!
DTSTART:20250925T183000
DTEND:20250925T200000
SUMMARY:Hitchcock Insect Club | Entomology of the Far Side by Gary Larson
URL;VALUE=URI:https://www.pottconservation.com/calendar/hitchcock_insect_club_entomology_of_the_far_side_by_gary_larson/2025-09-25/
DTSTAMP:20260425T182332
UID:69ed4cf4c32c8
END:VEVENT
END:VCALENDAR