BEGIN:VCALENDAR
VERSION:2.0
PRODID:-//hacksw/handcal//NONSGML v1.0//EN
CALSCALE:GREGORIAN
BEGIN:VEVENT
LOCATION:Hitchcock Nature Center\, 27792 Ski Hill Loop\, Honey Creek\, Iowa 51542
DESCRIPTION:Join us for a one-of-a-kind volunteer inventory at Hitchcock Nature Center as we set out to better understand the health and viability of oak tree species in western Iowa.
DTSTART:20210420T190000
DTEND:20210420T210000
SUMMARY:Hitchcock Oak Inventory Training
URL;VALUE=URI:https://www.pottconservation.com/calendar/hitchcock_oak_inventory_training/2021-04-20/
DTSTAMP:20260420T213938
UID:69e6e36aa867e
END:VEVENT
END:VCALENDAR