BEGIN:VCALENDAR
VERSION:2.0
PRODID:-//hacksw/handcal//NONSGML v1.0//EN
CALSCALE:GREGORIAN
BEGIN:VEVENT
LOCATION:Hitchcock Nature Center\, 27792 Ski Hill Loop\, Honey Creek\, Iowa 51542
DESCRIPTION:Join us for a one-of-a-kind volunteer inventory at Hitchcock Nature Center as we set out to better understand the health and viability of oak tree species in western Iowa.
DTSTART:20210914T190000
DTEND:20210914T210000
SUMMARY:Hitchcock Oak Inventory Training
URL;VALUE=URI:https://www.pottconservation.com/calendar/hitchcock_oak_inventory_training/2021-09-14/
DTSTAMP:20260420T232204
UID:69e6fb6c30899
END:VEVENT
END:VCALENDAR