BEGIN:VCALENDAR
VERSION:2.0
PRODID:-//hacksw/handcal//NONSGML v1.0//EN
CALSCALE:GREGORIAN
BEGIN:VEVENT
LOCATION:Hitchcock Nature Center\, 27792 Ski Hill Loop\, Honey Creek\, Iowa 51542
DESCRIPTION:
DTSTART:20251112T130000
DTEND:20251112T143000
SUMMARY:Homeschool in the Hills PM | Chill Bugs-Winter Survival
URL;VALUE=URI:https://www.pottconservation.com/calendar/homeschool_in_the_hills_am_chill_bugswinter_survival_4824/2025-11-12/
DTSTAMP:20260425T193116
UID:69ed5cd4752cd
END:VEVENT
END:VCALENDAR