BEGIN:VCALENDAR
VERSION:2.0
PRODID:-//hacksw/handcal//NONSGML v1.0//EN
CALSCALE:GREGORIAN
BEGIN:VEVENT
LOCATION:Hitchcock Nature Center\, 27792 Ski Hill Loop\, Honey Creek\, Iowa 51542
DESCRIPTION:Rocks\, Minerals\, and Fossils\, Oh My! 
DTSTART:20230215T100000
DTEND:20230215T113000
SUMMARY:Homeschool in the Hills AM | Rockin&#039\; Out with Fossils
URL;VALUE=URI:https://www.pottconservation.com/calendar/homeschool_in_the_hills_am_rockinout_with_fossils/2023-02-15/
DTSTAMP:20260425T121816
UID:69ecf7588f3b1
END:VEVENT
END:VCALENDAR