BEGIN:VCALENDAR
VERSION:2.0
PRODID:-//hacksw/handcal//NONSGML v1.0//EN
CALSCALE:GREGORIAN
BEGIN:VEVENT
LOCATION:Hitchcock Nature Center\, 27792 Ski Hill Loop\, Honey Creek\, Iowa 51542
DESCRIPTION:Come learn some of the tactics and talents that plants\, animals\, and even humans use to survive and flourish in the fall.
DTSTART:20221109T100000
DTEND:20221109T113000
SUMMARY:Homeschool in the Hills AM | Seasonal Survival: Fall
URL;VALUE=URI:https://www.pottconservation.com/calendar/homeschool_in_the_hills_am_seasonal_survival_fall/2022-11-09/
DTSTAMP:20260425T072847
UID:69ecb37f50427
END:VEVENT
END:VCALENDAR