BEGIN:VCALENDAR
VERSION:2.0
PRODID:-//hacksw/handcal//NONSGML v1.0//EN
CALSCALE:GREGORIAN
BEGIN:VEVENT
LOCATION:Hitchcock Nature Center\, 27792 Ski Hill Loop\, Honey Creek\, Iowa 51542
DESCRIPTION:
DTSTART:20250108T100000
DTEND:20250108T113000
SUMMARY:Homeschool in the Hills AM | Understanding Weather
URL;VALUE=URI:https://www.pottconservation.com/calendar/homeschool_in_the_hills_am_understanding_weather/2025-01-08/
DTSTAMP:20260420T030925
UID:69e5df35ab268
END:VEVENT
END:VCALENDAR