BEGIN:VCALENDAR
VERSION:2.0
PRODID:-//hacksw/handcal//NONSGML v1.0//EN
CALSCALE:GREGORIAN
BEGIN:VEVENT
LOCATION:Hitchcock Nature Center\, 27792 Ski Hill Loop\, Honey Creek\, Iowa 51542
DESCRIPTION:Learn more about the ways fungi species help balance &amp\; renew our environment.
DTSTART:20210504T130000
DTEND:20210504T143000
SUMMARY:Homeschool in the Hills: Fungi
URL;VALUE=URI:https://www.pottconservation.com/calendar/homeschool_in_the_hills_fungi/2021-05-04/
DTSTAMP:20260420T232201
UID:69e6fb698cc84
END:VEVENT
END:VCALENDAR