BEGIN:VCALENDAR
VERSION:2.0
PRODID:-//hacksw/handcal//NONSGML v1.0//EN
CALSCALE:GREGORIAN
BEGIN:VEVENT
LOCATION:Hitchcock Nature Center\, 27792 Ski Hill Loop\, Honey Creek\, Iowa 51542
DESCRIPTION:Learn more about the ways fungi species help balance &amp\; renew our environment.
DTSTART:20210505T100000
DTEND:20210505T113000
SUMMARY:Homeschool in the Hills: Fungi
URL;VALUE=URI:https://www.pottconservation.com/calendar/homeschool_in_the_hills_fungi/2021-05-05/
DTSTAMP:20260420T232026
UID:69e6fb0a5ef6d
END:VEVENT
END:VCALENDAR