BEGIN:VCALENDAR
VERSION:2.0
PRODID:-//hacksw/handcal//NONSGML v1.0//EN
CALSCALE:GREGORIAN
BEGIN:VEVENT
LOCATION:Botna Bend Park\, 42926 Mahogany Road\, Hancock\, Iowa 51536
DESCRIPTION:Maple syrup is tasty on your pancakes\, learn how it&#039\;s made at beautiful Botna Bend Park during this field trip program.
DTSTART:20210302T100000
DTEND:20210302T113000
SUMMARY:Homeschool in the Hills: Maple Tree Tap
URL;VALUE=URI:https://www.pottconservation.com/calendar/homeschool_in_the_hills_maple_tree_tap/2021-03-02/
DTSTAMP:20260420T201912
UID:69e6d0908d1bb
END:VEVENT
END:VCALENDAR