BEGIN:VCALENDAR
VERSION:2.0
PRODID:-//hacksw/handcal//NONSGML v1.0//EN
CALSCALE:GREGORIAN
BEGIN:VEVENT
LOCATION:Hitchcock Nature Center\, 27792 Ski Hill Loop\, Honey Creek\, Iowa 51542
DESCRIPTION:Area homeschool students are invited to join us at Hitchcock Nature Center for a fun filled field trip.
DTSTART:20201110T170000
DTEND:20201110T183000
SUMMARY:Homeschool in the Hills: Nocturnal Animals
URL;VALUE=URI:https://www.pottconservation.com/calendar/homeschool_in_the_hills_nocturnal_animals/2020-11-10/
DTSTAMP:20260421T112653
UID:69e7a54ddc97b
END:VEVENT
END:VCALENDAR