BEGIN:VCALENDAR
VERSION:2.0
PRODID:-//hacksw/handcal//NONSGML v1.0//EN
CALSCALE:GREGORIAN
BEGIN:VEVENT
LOCATION:Hitchcock Nature Center\, 27792 Ski Hill Loop\, Honey Creek\, Iowa 51542
DESCRIPTION:
DTSTART:20251008T130000
DTEND:20251008T143000
SUMMARY:Homeschool in the Hills PM | The Secrets of Leaves
URL;VALUE=URI:https://www.pottconservation.com/calendar/homeschool_in_the_hills_pm_the_secrets_of_leaves/2025-10-08/
DTSTAMP:20260425T180325
UID:69ed483d23057
END:VEVENT
END:VCALENDAR