BEGIN:VCALENDAR
VERSION:2.0
PRODID:-//hacksw/handcal//NONSGML v1.0//EN
CALSCALE:GREGORIAN
BEGIN:VEVENT
LOCATION:Hitchcock Nature Center\, 27792 Ski Hill Loop\, Honey Creek\, Iowa 51542
DESCRIPTION:Explore the stunning &amp\; geologically unique Loess Hills at Hitchcock Nature Center during this field trip.
DTSTART:20211102T130000
DTEND:20211102T143000
SUMMARY:Homeschool in the Hills: The Loess Hills - Afternoon
URL;VALUE=URI:https://www.pottconservation.com/calendar/homeschool_in_the_hills_the_loess_hills_afternoon/2021-11-02/
DTSTAMP:20260421T081225
UID:69e777b9356cb
END:VEVENT
END:VCALENDAR