BEGIN:VCALENDAR
VERSION:2.0
PRODID:-//hacksw/handcal//NONSGML v1.0//EN
CALSCALE:GREGORIAN
BEGIN:VEVENT
LOCATION:Hitchcock Nature Center\, 27792 Ski Hill Loop\, Honey Creek\, Iowa 51542
DESCRIPTION:Explore the stunning &amp\; geologically unique Loess Hills at Hitchcock Nature Center during this field trip.
DTSTART:20211102T100000
DTEND:20211102T113000
SUMMARY:Homeschool in the Hills: The Loess Hills - Morning
URL;VALUE=URI:https://www.pottconservation.com/calendar/homeschool_in_the_hills_the_loess_hills_morning/2021-11-02/
DTSTAMP:20260421T081224
UID:69e777b8608ee
END:VEVENT
END:VCALENDAR