BEGIN:VCALENDAR
VERSION:2.0
PRODID:-//hacksw/handcal//NONSGML v1.0//EN
CALSCALE:GREGORIAN
BEGIN:VEVENT
LOCATION:Hitchcock Nature Center\, 27792 Ski Hill Loop\, Honey Creek\, Iowa 51542
DESCRIPTION:After passing the online portion of the Iowa Department of Natural Resources Hunting education course join us at Hitchcock Nature Center to complete your required Field Day
DTSTART:20210313T140000
DTEND:20210313T180000
SUMMARY:Hunter Education Field Day
URL;VALUE=URI:https://www.pottconservation.com/calendar/hunter_education_field_day/2021-03-13/
DTSTAMP:20260420T201458
UID:69e6cf921bc5c
END:VEVENT
END:VCALENDAR