BEGIN:VCALENDAR
VERSION:2.0
PRODID:-//hacksw/handcal//NONSGML v1.0//EN
CALSCALE:GREGORIAN
BEGIN:VEVENT
LOCATION:Hitchcock Nature Center\, 27792 Ski Hill Loop\, Honey Creek\, Iowa 51542
DESCRIPTION:
DTSTART:20220326T090000
DTEND:20220326T130000
SUMMARY:Hunter Education Field Day
URL;VALUE=URI:https://www.pottconservation.com/calendar/hunter_education_field_day/2022-03-26/
DTSTAMP:20260421T190938
UID:69e811c2895fb
END:VEVENT
END:VCALENDAR