BEGIN:VCALENDAR
VERSION:2.0
PRODID:-//hacksw/handcal//NONSGML v1.0//EN
CALSCALE:GREGORIAN
BEGIN:VEVENT
LOCATION:Hitchcock Nature Center\, 27792 Ski Hill Loop\, Honey Creek\, Iowa 51542
DESCRIPTION:Join the Iowa DNR and learn the vital basics of hunting including wildlife identification\, first aid\, and firearm and archery safety.
DTSTART:20250405T090000
DTEND:20250405T130000
SUMMARY:Hunter Education Field Day
URL;VALUE=URI:https://www.pottconservation.com/calendar/hunter_education_field_day/2025-04-05/
DTSTAMP:20260420T041634
UID:69e5eef26e83f
END:VEVENT
END:VCALENDAR