BEGIN:VCALENDAR
VERSION:2.0
PRODID:-//hacksw/handcal//NONSGML v1.0//EN
CALSCALE:GREGORIAN
BEGIN:VEVENT
LOCATION:Hitchcock Nature Center\, 27792 Ski Hill Loop\, Honey Creek\, Iowa 51542
DESCRIPTION:Come join in the fun! Everyone is welcome.
DTSTART:20240523T183000
DTEND:20240523T200000
SUMMARY:Insect Club
URL;VALUE=URI:https://www.pottconservation.com/calendar/insect_club/2024-05-23/
DTSTAMP:20260419T182854
UID:69e56536ad110
END:VEVENT
END:VCALENDAR