BEGIN:VCALENDAR
VERSION:2.0
PRODID:-//hacksw/handcal//NONSGML v1.0//EN
CALSCALE:GREGORIAN
BEGIN:VEVENT
LOCATION:Hitchcock Nature Center\, 27792 Ski Hill Loop\, Honey Creek\, Iowa 51542
DESCRIPTION:Who here loves butterflies? Join local outdoor enthusiasts Babs &amp\; Loren Padelford for an interesting discussion about butterflies we&#039\;re seeing this time of year!
DTSTART:20220623T183000
DTEND:20220623T200000
SUMMARY:Insect Club: Butterfly Count
URL;VALUE=URI:https://www.pottconservation.com/calendar/insect_club_butterfly_count/2022-06-23/
DTSTAMP:20260425T062949
UID:69eca5ad53263
END:VEVENT
END:VCALENDAR