BEGIN:VCALENDAR
VERSION:2.0
PRODID:-//hacksw/handcal//NONSGML v1.0//EN
CALSCALE:GREGORIAN
BEGIN:VEVENT
LOCATION:Hitchcock Nature Center\, 27792 Ski Hill Loop\, Honey Creek\, Iowa 51542
DESCRIPTION:Are you an insect enthusiast? Then consider joining us for September&#039\;s Insect Club.
DTSTART:20220922T183000
DTEND:20220922T200000
SUMMARY:Insect Club: Insects in the News with Dennis Kingery
URL;VALUE=URI:https://www.pottconservation.com/calendar/insect_club_insects_in_the_news/2022-09-22/
DTSTAMP:20260425T113633
UID:69eced91a201d
END:VEVENT
END:VCALENDAR