BEGIN:VCALENDAR
VERSION:2.0
PRODID:-//hacksw/handcal//NONSGML v1.0//EN
CALSCALE:GREGORIAN
BEGIN:VEVENT
LOCATION:Hitchcock Nature Center\, 27792 Ski Hill Loop\, Honey Creek\, Iowa 51542
DESCRIPTION:Are you an insect enthusiast! Then consider joining us for July&#039\;s Insect Club led by Master Naturalist Joanne Langabee.
DTSTART:20220728T183000
DTEND:20220728T200000
SUMMARY:Insect Club: Butterfly Populations
URL;VALUE=URI:https://www.pottconservation.com/calendar/insect_club_july/2022-07-28/
DTSTAMP:20260425T081715
UID:69ecbedb1fcb1
END:VEVENT
END:VCALENDAR