BEGIN:VCALENDAR
VERSION:2.0
PRODID:-//hacksw/handcal//NONSGML v1.0//EN
CALSCALE:GREGORIAN
BEGIN:VEVENT
LOCATION:Arrowhead Park\, 29357 310th Street\, Neola\, Iowa 51559
DESCRIPTION:Older learners head out on the water for a canoe &amp\; camping excursion during this overnight adventure.
DTSTART:20210706T080000
DTEND:20210706T130000
SUMMARY:Into the Wild
URL;VALUE=URI:https://www.pottconservation.com/calendar/into_the_wild/2021-07-06/
DTSTAMP:20260421T021157
UID:69e7233d64b67
END:VEVENT
END:VCALENDAR