BEGIN:VCALENDAR
VERSION:2.0
PRODID:-//hacksw/handcal//NONSGML v1.0//EN
CALSCALE:GREGORIAN
BEGIN:VEVENT
LOCATION:Arrowhead Park\, 29357 310th Street\, Neola\, Iowa 51559
DESCRIPTION:Youth entering 7th\, 8th\, and 9th grades get a chance to put all their outdoor skills to use during a paddling adventure and an overnight camping stay at Botna Bend Park.
DTSTART:20220628T080000
DTEND:20220628T130000
SUMMARY:Into the Wild Outdoor Adventure
URL;VALUE=URI:https://www.pottconservation.com/calendar/into_the_wild_outdoor_adventure/2022-06-28/
DTSTAMP:20260422T072855
UID:69e8bf0713be5
END:VEVENT
END:VCALENDAR