BEGIN:VCALENDAR
VERSION:2.0
PRODID:-//hacksw/handcal//NONSGML v1.0//EN
CALSCALE:GREGORIAN
BEGIN:VEVENT
LOCATION:Arrowhead Park\, 29357 310th Street\, Neola\, Iowa 51559
DESCRIPTION:Older students are beckoned to answer the call of the wild and take their outdoor skills to the next level during this three-day outdoor adventure which includes a canoe trip on the West Nishnabotna River Water Trail (water level dependent) &amp\; an overnight campout at Botna Bend Park.&nbsp\;
DTSTART:20250624T080000
DTEND:20250624T130000
SUMMARY:Into the Wild Outdoor Adventure
URL;VALUE=URI:https://www.pottconservation.com/calendar/into_the_wild_outdoor_adventure/2025-06-24/
DTSTAMP:20260420T180925
UID:69e6b2259b37b
END:VEVENT
END:VCALENDAR