BEGIN:VCALENDAR
VERSION:2.0
PRODID:-//hacksw/handcal//NONSGML v1.0//EN
CALSCALE:GREGORIAN
BEGIN:VEVENT
LOCATION:Hitchcock Nature Center\, 27792 Ski Hill Loop\, Honey Creek\, Iowa 51542
DESCRIPTION:Explore nature &amp\; philosophy during this immersive program perfect for anyone who loves the great outdoors. 
DTSTART:20220226T090000
DTEND:20220226T110000
SUMMARY:Introduction to &quot\;A Land Ethic Workshop&quot\; (Free)
URL;VALUE=URI:https://www.pottconservation.com/calendar/introduction_to_quota_land_ethic_workshopquot_free/2022-02-26/
DTSTAMP:20260421T171155
UID:69e7f62b37927
END:VEVENT
END:VCALENDAR