BEGIN:VCALENDAR
VERSION:2.0
PRODID:-//hacksw/handcal//NONSGML v1.0//EN
CALSCALE:GREGORIAN
BEGIN:VEVENT
LOCATION:Hitchcock Nature Center\, 27792 Ski Hill Loop\, Honey Creek\, Iowa 51542
DESCRIPTION:Families with young learners are invited to hit the trails for a self-guided hike full of fun nature learning at Hitchcock Nature Center!
DTSTART:20230701T060000
DTEND:20230701T220000
SUMMARY:July Little Tike Hike | Hitchcock Nature Center
URL;VALUE=URI:https://www.pottconservation.com/calendar/july_little_tike_hike_hitchcock_nature_center/2023-07-01/
DTSTAMP:20260421T015214
UID:69e71e9e23cf6
END:VEVENT
END:VCALENDAR