BEGIN:VCALENDAR
VERSION:2.0
PRODID:-//hacksw/handcal//NONSGML v1.0//EN
CALSCALE:GREGORIAN
BEGIN:VEVENT
LOCATION:Arrowhead Park\, 29357 310th Street\, Neola\, Iowa 51559
DESCRIPTION:Enjoy Arrowhead Park during Iowa&#039\;s free fishing weekend &amp\; see what&#039\;s biting. 
DTSTART:20210605T130000
DTEND:20210605T160000
SUMMARY:Kid&#039\;s Fishing Derby
URL;VALUE=URI:https://www.pottconservation.com/calendar/kids_fishing_derby/2021-06-05/
DTSTAMP:20260421T004017
UID:69e70dc11f360
END:VEVENT
END:VCALENDAR