BEGIN:VCALENDAR
VERSION:2.0
PRODID:-//hacksw/handcal//NONSGML v1.0//EN
CALSCALE:GREGORIAN
BEGIN:VEVENT
LOCATION:Arrowhead Park\, 29357 310th Street\, Neola\, Iowa 51559
DESCRIPTION:Enjoy Arrowhead Park during Iowa&#039\;s free fishing weekend &amp\; see what&#039\;s biting. 
DTSTART:20260606T100000
DTEND:20260606T120000
SUMMARY:Kids&#039\; Fishing Derby at Arrowhead Park
URL;VALUE=URI:https://www.pottconservation.com/calendar/kids_fishing_derby_at_arrowhead_park/2026-06-06/
DTSTAMP:20260421T122908
UID:69e7b3e45ba80
END:VEVENT
END:VCALENDAR