BEGIN:VCALENDAR
VERSION:2.0
PRODID:-//hacksw/handcal//NONSGML v1.0//EN
CALSCALE:GREGORIAN
BEGIN:VEVENT
LOCATION:Narrows River Park\, 2500 North 25th Street\, Council Bluffs\, Iowa 51501
DESCRIPTION:We provide the guidance\, bows\, arrows\, and targets\, you provide the energy and enthusiasm.
DTSTART:20220707T183000
DTEND:20220707T200000
SUMMARY:Learn Archery
URL;VALUE=URI:https://www.pottconservation.com/calendar/learn_archery/2022-07-07/
DTSTAMP:20260425T081244
UID:69ecbdcc67edf
END:VEVENT
END:VCALENDAR