BEGIN:VCALENDAR
VERSION:2.0
PRODID:-//hacksw/handcal//NONSGML v1.0//EN
CALSCALE:GREGORIAN
BEGIN:VEVENT
LOCATION:Narrows River Park\, 2500 North 25th Street\, Council Bluffs\, Iowa 51501
DESCRIPTION:We provide the guidance\, bows\, arrows\, and targets\, you provide the energy and enthusiasm.
DTSTART:20220811T183000
DTEND:20220811T200000
SUMMARY:Learn Archery
URL;VALUE=URI:https://www.pottconservation.com/calendar/learn_archery/2022-08-11/
DTSTAMP:20260425T095309
UID:69ecd555213c0
END:VEVENT
END:VCALENDAR