BEGIN:VCALENDAR
VERSION:2.0
PRODID:-//hacksw/handcal//NONSGML v1.0//EN
CALSCALE:GREGORIAN
BEGIN:VEVENT
LOCATION:Hitchcock Nature Center\, 27792 Ski Hill Loop\, Honey Creek\, Iowa 51542
DESCRIPTION:Learn the art of fly tying with the Cornhusker Fly Fishers at Hitchcock Nature Center!
DTSTART:20250208T090000
DTEND:20250208T110000
SUMMARY:Learn Fly Tying
URL;VALUE=URI:https://www.pottconservation.com/calendar/learn_fly_tying/2025-02-08/
DTSTAMP:20260425T115049
UID:69ecf0e9aa729
END:VEVENT
END:VCALENDAR