BEGIN:VCALENDAR
VERSION:2.0
PRODID:-//hacksw/handcal//NONSGML v1.0//EN
CALSCALE:GREGORIAN
BEGIN:VEVENT
LOCATION:Narrows River Park\, 2500 North 25th Street\, Council Bluffs\, Iowa 51501
DESCRIPTION:Learn the basics of archery with help from our Environmental Education staff.
DTSTART:20210521T183000
DTEND:20210521T193000
SUMMARY:Learn To: Archery
URL;VALUE=URI:https://www.pottconservation.com/calendar/learn_to_archery/2021-05-21/
DTSTAMP:20260420T232205
UID:69e6fb6d7a468
END:VEVENT
END:VCALENDAR