BEGIN:VCALENDAR
VERSION:2.0
PRODID:-//hacksw/handcal//NONSGML v1.0//EN
CALSCALE:GREGORIAN
BEGIN:VEVENT
LOCATION:Arrowhead Park\, 29357 310th Street\, Neola\, Iowa 51559
DESCRIPTION:Get a hands-on introduction to the basics of kayaking.
DTSTART:20230930T103000
DTEND:20230930T113000
SUMMARY:Learn to Kayak | 10:30 A.M.
URL;VALUE=URI:https://www.pottconservation.com/calendar/learn_to_kayak_1030_am/2023-09-30/
DTSTAMP:20260424T005708
UID:69eb06346f336
END:VEVENT
END:VCALENDAR