BEGIN:VCALENDAR
VERSION:2.0
PRODID:-//hacksw/handcal//NONSGML v1.0//EN
CALSCALE:GREGORIAN
BEGIN:VEVENT
LOCATION:Arrowhead Park\, 29357 310th Street\, Neola\, Iowa 51559
DESCRIPTION:Get a hands-on introduction to the basics of kayaking.
DTSTART:20250830T110000
DTEND:20250830T130000
SUMMARY:Learn to Kayak | 11 A.M.
URL;VALUE=URI:https://www.pottconservation.com/calendar/learn_to_kayak_11_am/2025-08-30/
DTSTAMP:20260424T144713
UID:69ebc8c1573ca
END:VEVENT
END:VCALENDAR