BEGIN:VCALENDAR
VERSION:2.0
PRODID:-//hacksw/handcal//NONSGML v1.0//EN
CALSCALE:GREGORIAN
BEGIN:VEVENT
LOCATION:Hitchcock Nature Center\, 27792 Ski Hill Loop\, Honey Creek\, Iowa 51542
DESCRIPTION:Learn the basics of snowshoeing during this hands-on program.
DTSTART:20210213T140000
DTEND:20210213T153000
SUMMARY:Learn To: Snowshoe
URL;VALUE=URI:https://www.pottconservation.com/calendar/learn_to_snowshoe/2021-02-13/
DTSTAMP:20260420T183255
UID:69e6b7a713fdc
END:VEVENT
END:VCALENDAR