BEGIN:VCALENDAR
VERSION:2.0
PRODID:-//hacksw/handcal//NONSGML v1.0//EN
CALSCALE:GREGORIAN
BEGIN:VEVENT
LOCATION:Hitchcock Nature Center\, 27792 Ski Hill Loop\, Honey Creek\, Iowa 51542
DESCRIPTION:Celebrate Earth Day at the park with this all ages volunteer event. 
DTSTART:20210424T090000
DTEND:20210424T130000
SUMMARY:Litter Busters
URL;VALUE=URI:https://www.pottconservation.com/calendar/litter_busters/2021-04-24/
DTSTAMP:20260420T213624
UID:69e6e2a8cf224
END:VEVENT
END:VCALENDAR