BEGIN:VCALENDAR
VERSION:2.0
PRODID:-//hacksw/handcal//NONSGML v1.0//EN
CALSCALE:GREGORIAN
BEGIN:VEVENT
LOCATION:Hitchcock Nature Center\, 27792 Ski Hill Loop\, Honey Creek\, Iowa 51542
DESCRIPTION:Celebrate Earth Day with Pottawattamie Conservation and join our park cleanup event at Hitchcock Nature Center.
DTSTART:20250426T090000
DTEND:20250426T130000
SUMMARY:Litter Busters Park Cleanup | Hitchcock
URL;VALUE=URI:https://www.pottconservation.com/calendar/litter_busters_park_cleanup/2025-04-26/
DTSTAMP:20260424T184107
UID:69ebff93b30d5
END:VEVENT
END:VCALENDAR